Package: SpaNorm Version: 1.0.0 Command: /home/biocbuild/bbs-3.20-bioc/R/bin/R CMD INSTALL SpaNorm StartedAt: 2024-11-19 16:57:21 -0500 (Tue, 19 Nov 2024) EndedAt: 2024-11-19 16:57:25 -0500 (Tue, 19 Nov 2024) EllapsedTime: 4.0 seconds RetCode: 0 Status: OK