Package: SpaceMarkers Version: 1.2.1 Command: rm -rf SpaceMarkers.buildbin-libdir && mkdir SpaceMarkers.buildbin-libdir && /Users/biocbuild/BBS/utils/build-universal.sh SpaceMarkers_1.2.1.tar.gz /Library/Frameworks/R.framework/Resources/bin/R SpaceMarkers.buildbin-libdir StartedAt: 2025-02-05 17:54:42 -0500 (Wed, 05 Feb 2025) EndedAt: 2025-02-05 17:54:56 -0500 (Wed, 05 Feb 2025) EllapsedTime: 13.5 seconds RetCode: 0 Status: OK PackageFile: SpaceMarkers_1.2.1.tgz PackageFileSize: 3.15 MiB