Package: SpaceMarkers Version: 1.2.1 Command: /Library/Frameworks/R.framework/Resources/bin/R CMD check --install=check:SpaceMarkers.install-out.txt --library=/Library/Frameworks/R.framework/Resources/library --no-vignettes --timings SpaceMarkers_1.2.1.tar.gz StartedAt: 2025-02-05 10:51:46 -0500 (Wed, 05 Feb 2025) EndedAt: 2025-02-05 10:54:33 -0500 (Wed, 05 Feb 2025) EllapsedTime: 167.2 seconds RetCode: 0 Status: OK CheckDir: SpaceMarkers.Rcheck Warnings: 0