Package: SpaceMarkers Version: 1.2.1 Command: /Library/Frameworks/R.framework/Resources/bin/R CMD INSTALL SpaceMarkers StartedAt: 2025-01-30 18:24:32 -0500 (Thu, 30 Jan 2025) EndedAt: 2025-01-30 18:24:44 -0500 (Thu, 30 Jan 2025) EllapsedTime: 11.5 seconds RetCode: 0 Status: OK