Package: SpaceMarkers Version: 1.2.1 Command: /home/biocbuild/R/R/bin/R CMD build --keep-empty-dirs --no-resave-data SpaceMarkers StartedAt: 2024-11-20 04:06:14 -0000 (Wed, 20 Nov 2024) EndedAt: 2024-11-20 04:08:50 -0000 (Wed, 20 Nov 2024) EllapsedTime: 155.2 seconds RetCode: 0 Status: OK PackageFile: SpaceMarkers_1.2.1.tar.gz PackageFileSize: 2.197 MiB