Package: SpaceMarkers Version: 1.2.1 Command: rm -rf SpaceMarkers.buildbin-libdir && mkdir SpaceMarkers.buildbin-libdir && /Users/biocbuild/BBS/utils/build-universal.sh SpaceMarkers_1.2.1.tar.gz /Library/Frameworks/R.framework/Resources/bin/R SpaceMarkers.buildbin-libdir StartedAt: 2025-01-31 13:45:23 -0500 (Fri, 31 Jan 2025) EndedAt: 2025-01-31 13:45:49 -0500 (Fri, 31 Jan 2025) EllapsedTime: 26.2 seconds RetCode: 0 Status: OK PackageFile: SpaceMarkers_1.2.1.tgz PackageFileSize: 3.143 MiB