Package: SpaceMarkers Version: 1.2.1 Command: rm -rf SpaceMarkers.buildbin-libdir && mkdir SpaceMarkers.buildbin-libdir && F:\biocbuild\bbs-3.20-bioc\R\bin\R.exe CMD INSTALL --build --library=SpaceMarkers.buildbin-libdir SpaceMarkers_1.2.1.tar.gz StartedAt: 2025-02-04 09:34:15 -0500 (Tue, 04 Feb 2025) EndedAt: 2025-02-04 09:34:41 -0500 (Tue, 04 Feb 2025) EllapsedTime: 25.4 seconds RetCode: 0 Status: OK PackageFile: SpaceMarkers_1.2.1.zip PackageFileSize: 2.853 MiB