Package: SpaceMarkers Version: 1.2.1 Command: chmod a+r SpaceMarkers -R && F:\biocbuild\bbs-3.20-bioc\R\bin\R.exe CMD build --keep-empty-dirs --no-resave-data SpaceMarkers StartedAt: 2025-02-03 22:16:32 -0500 (Mon, 03 Feb 2025) EndedAt: 2025-02-03 22:19:57 -0500 (Mon, 03 Feb 2025) EllapsedTime: 205.2 seconds RetCode: 0 Status: OK PackageFile: SpaceMarkers_1.2.1.tar.gz PackageFileSize: 2.905 MiB