Package: SpaceMarkers Version: 1.2.1 Command: F:\biocbuild\bbs-3.20-bioc\R\bin\R.exe CMD INSTALL SpaceMarkers StartedAt: 2025-02-03 17:14:02 -0500 (Mon, 03 Feb 2025) EndedAt: 2025-02-03 17:14:31 -0500 (Mon, 03 Feb 2025) EllapsedTime: 28.9 seconds RetCode: 0 Status: OK