Package: SpaceMarkers Version: 1.2.1 Command: /home/biocbuild/R/R/bin/R CMD build --keep-empty-dirs --no-resave-data SpaceMarkers StartedAt: 2025-02-11 02:44:10 -0000 (Tue, 11 Feb 2025) EndedAt: 2025-02-11 02:46:32 -0000 (Tue, 11 Feb 2025) EllapsedTime: 142.0 seconds RetCode: 0 Status: OK PackageFile: SpaceMarkers_1.2.1.tar.gz PackageFileSize: 2.215 MiB