Package: SpaceMarkers Version: 1.2.1 Command: /home/biocbuild/R/R/bin/R CMD INSTALL SpaceMarkers StartedAt: 2025-02-10 21:09:38 -0000 (Mon, 10 Feb 2025) EndedAt: 2025-02-10 21:09:51 -0000 (Mon, 10 Feb 2025) EllapsedTime: 13.1 seconds RetCode: 0 Status: OK