Package: SparseArray Version: 1.6.1 Command: /Library/Frameworks/R.framework/Resources/bin/R CMD build --keep-empty-dirs --no-resave-data SparseArray StartedAt: 2025-02-04 08:43:56 -0500 (Tue, 04 Feb 2025) EndedAt: 2025-02-04 08:45:14 -0500 (Tue, 04 Feb 2025) EllapsedTime: 78.3 seconds RetCode: 0 Status: OK PackageFile: SparseArray_1.6.1.tar.gz PackageFileSize: 452.8 KiB