Package: SparseArray Version: 1.6.1 Command: /Library/Frameworks/R.framework/Resources/bin/R CMD INSTALL SparseArray StartedAt: 2025-02-03 15:20:39 -0500 (Mon, 03 Feb 2025) EndedAt: 2025-02-03 15:21:23 -0500 (Mon, 03 Feb 2025) EllapsedTime: 44.0 seconds RetCode: 0 Status: OK