Package: SparseArray Version: 1.6.1 Command: rm -rf SparseArray.buildbin-libdir && mkdir SparseArray.buildbin-libdir && /Users/biocbuild/BBS/utils/build-universal.sh SparseArray_1.6.1.tar.gz /Library/Frameworks/R.framework/Resources/bin/R SparseArray.buildbin-libdir StartedAt: 2025-01-31 13:45:38 -0500 (Fri, 31 Jan 2025) EndedAt: 2025-01-31 13:46:59 -0500 (Fri, 31 Jan 2025) EllapsedTime: 80.8 seconds RetCode: 0 Status: OK PackageFile: SparseArray_1.6.1.tgz PackageFileSize: 1.761 MiB