Package: SparseArray Version: 1.6.1 Command: /Library/Frameworks/R.framework/Resources/bin/R CMD check --install=check:SparseArray.install-out.txt --library=/Library/Frameworks/R.framework/Resources/library --no-vignettes --timings SparseArray_1.6.1.tar.gz StartedAt: 2025-02-04 10:29:07 -0500 (Tue, 04 Feb 2025) EndedAt: 2025-02-04 10:37:14 -0500 (Tue, 04 Feb 2025) EllapsedTime: 487.5 seconds RetCode: 0 Status: OK CheckDir: SparseArray.Rcheck Warnings: 0