Package: SparseArray Version: 1.6.1 Command: /home/biocbuild/bbs-3.20-bioc/R/bin/R CMD check --install=check:SparseArray.install-out.txt --library=/home/biocbuild/bbs-3.20-bioc/R/site-library --timings SparseArray_1.6.1.tar.gz StartedAt: 2025-02-04 02:41:52 -0500 (Tue, 04 Feb 2025) EndedAt: 2025-02-04 02:46:00 -0500 (Tue, 04 Feb 2025) EllapsedTime: 248.2 seconds RetCode: 0 Status: OK CheckDir: SparseArray.Rcheck Warnings: 0