Package: SparseSignatures Version: 2.16.0 Command: /Library/Frameworks/R.framework/Resources/bin/R CMD build --keep-empty-dirs --no-resave-data SparseSignatures StartedAt: 2024-11-08 19:13:45 -0500 (Fri, 08 Nov 2024) EndedAt: 2024-11-08 19:15:19 -0500 (Fri, 08 Nov 2024) EllapsedTime: 94.0 seconds RetCode: 0 Status: OK PackageFile: SparseSignatures_2.16.0.tar.gz PackageFileSize: 1.462 MiB