Package: SparseSignatures Version: 2.16.0 Command: /Library/Frameworks/R.framework/Resources/bin/R CMD INSTALL SparseSignatures StartedAt: 2025-02-03 15:53:48 -0500 (Mon, 03 Feb 2025) EndedAt: 2025-02-03 15:55:06 -0500 (Mon, 03 Feb 2025) EllapsedTime: 77.9 seconds RetCode: 0 Status: OK