Package: SpatialCPie Version: 1.22.0 Command: /Library/Frameworks/R.framework/Resources/bin/R CMD INSTALL SpatialCPie StartedAt: 2025-02-03 16:01:57 -0500 (Mon, 03 Feb 2025) EndedAt: 2025-02-03 16:02:49 -0500 (Mon, 03 Feb 2025) EllapsedTime: 51.6 seconds RetCode: 0 Status: OK