Package: SpatialCPie Version: 1.22.0 Command: /home/biocbuild/bbs-3.20-bioc/R/bin/R CMD check --install=check:SpatialCPie.install-out.txt --library=/home/biocbuild/bbs-3.20-bioc/R/site-library --timings SpatialCPie_1.22.0.tar.gz StartedAt: 2025-02-04 02:43:06 -0500 (Tue, 04 Feb 2025) EndedAt: 2025-02-04 02:46:04 -0500 (Tue, 04 Feb 2025) EllapsedTime: 178.2 seconds RetCode: 0 Status: OK CheckDir: SpatialCPie.Rcheck Warnings: 0