Package: SpatialCPie Version: 1.22.0 Command: chmod a+r SpatialCPie -R && F:\biocbuild\bbs-3.20-bioc\R\bin\R.exe CMD build --keep-empty-dirs --no-resave-data SpatialCPie StartedAt: 2025-02-03 22:17:52 -0500 (Mon, 03 Feb 2025) EndedAt: 2025-02-03 22:19:03 -0500 (Mon, 03 Feb 2025) EllapsedTime: 70.9 seconds RetCode: 0 Status: OK PackageFile: SpatialCPie_1.22.0.tar.gz PackageFileSize: 1011 KiB