Package: SpatialCPie Version: 1.22.0 Command: /home/biocbuild/R/R/bin/R CMD build --keep-empty-dirs --no-resave-data SpatialCPie StartedAt: 2025-02-04 03:10:55 -0000 (Tue, 04 Feb 2025) EndedAt: 2025-02-04 03:12:09 -0000 (Tue, 04 Feb 2025) EllapsedTime: 74.1 seconds RetCode: 0 Status: OK PackageFile: SpatialCPie_1.22.0.tar.gz PackageFileSize: 1014 KiB