Package: SpatialExperiment Version: 1.16.0 Command: rm -rf SpatialExperiment.buildbin-libdir && mkdir SpatialExperiment.buildbin-libdir && /Users/biocbuild/BBS/utils/build-universal.sh SpatialExperiment_1.16.0.tar.gz /Library/Frameworks/R.framework/Resources/bin/R SpatialExperiment.buildbin-libdir StartedAt: 2025-02-01 17:00:48 -0500 (Sat, 01 Feb 2025) EndedAt: 2025-02-01 17:01:22 -0500 (Sat, 01 Feb 2025) EllapsedTime: 34.1 seconds RetCode: 0 Status: OK PackageFile: SpatialExperiment_1.16.0.tgz PackageFileSize: 6.006 MiB