Package: SpatialExperiment Version: 1.16.0 Command: /Library/Frameworks/R.framework/Resources/bin/R CMD build --keep-empty-dirs --no-resave-data SpatialExperiment StartedAt: 2025-01-31 08:37:24 -0500 (Fri, 31 Jan 2025) EndedAt: 2025-01-31 08:38:34 -0500 (Fri, 31 Jan 2025) EllapsedTime: 69.6 seconds RetCode: 0 Status: OK PackageFile: SpatialExperiment_1.16.0.tar.gz PackageFileSize: 5.691 MiB