Package: SpatialExperiment Version: 1.16.0 Command: /Library/Frameworks/R.framework/Resources/bin/R CMD INSTALL SpatialExperiment StartedAt: 2025-01-30 15:42:34 -0500 (Thu, 30 Jan 2025) EndedAt: 2025-01-30 15:43:03 -0500 (Thu, 30 Jan 2025) EllapsedTime: 28.9 seconds RetCode: 0 Status: OK