Package: SpatialExperiment Version: 1.16.0 Command: /Library/Frameworks/R.framework/Resources/bin/R CMD build --keep-empty-dirs --no-resave-data SpatialExperiment StartedAt: 2025-02-03 22:32:06 -0500 (Mon, 03 Feb 2025) EndedAt: 2025-02-03 22:34:17 -0500 (Mon, 03 Feb 2025) EllapsedTime: 130.9 seconds RetCode: 0 Status: OK PackageFile: SpatialExperiment_1.16.0.tar.gz PackageFileSize: 5.688 MiB