Package: SpatialExperiment Version: 1.16.0 Command: rm -rf SpatialExperiment.buildbin-libdir && mkdir SpatialExperiment.buildbin-libdir && F:\biocbuild\bbs-3.20-bioc\R\bin\R.exe CMD INSTALL --build --library=SpatialExperiment.buildbin-libdir SpatialExperiment_1.16.0.tar.gz StartedAt: 2025-01-31 09:41:30 -0500 (Fri, 31 Jan 2025) EndedAt: 2025-01-31 09:43:11 -0500 (Fri, 31 Jan 2025) EllapsedTime: 101.9 seconds RetCode: 0 Status: OK PackageFile: SpatialExperiment_1.16.0.zip PackageFileSize: 5.558 MiB