Package: Spectra Version: 1.16.0 Command: rm -rf Spectra.buildbin-libdir && mkdir Spectra.buildbin-libdir && /Users/biocbuild/BBS/utils/build-universal.sh Spectra_1.16.0.tar.gz /Library/Frameworks/R.framework/Resources/bin/R Spectra.buildbin-libdir StartedAt: 2025-02-12 17:10:53 -0500 (Wed, 12 Feb 2025) EndedAt: 2025-02-12 17:11:12 -0500 (Wed, 12 Feb 2025) EllapsedTime: 19.3 seconds RetCode: 0 Status: OK PackageFile: Spectra_1.16.0.tgz PackageFileSize: 2.074 MiB