Package: Spectra Version: 1.16.0 Command: /Library/Frameworks/R.framework/Resources/bin/R CMD check --install=check:Spectra.install-out.txt --library=/Library/Frameworks/R.framework/Resources/library --no-vignettes --timings Spectra_1.16.0.tar.gz StartedAt: 2025-02-12 10:35:22 -0500 (Wed, 12 Feb 2025) EndedAt: 2025-02-12 10:45:14 -0500 (Wed, 12 Feb 2025) EllapsedTime: 591.9 seconds RetCode: 0 Status: OK CheckDir: Spectra.Rcheck Warnings: 0