Package: Spectra Version: 1.16.0 Command: /Library/Frameworks/R.framework/Resources/bin/R CMD INSTALL Spectra StartedAt: 2025-02-10 15:49:43 -0500 (Mon, 10 Feb 2025) EndedAt: 2025-02-10 15:49:59 -0500 (Mon, 10 Feb 2025) EllapsedTime: 16.8 seconds RetCode: 0 Status: OK