Package: Spectra Version: 1.16.0 Command: /Library/Frameworks/R.framework/Resources/bin/R CMD build --keep-empty-dirs --no-resave-data Spectra StartedAt: 2025-02-03 22:35:04 -0500 (Mon, 03 Feb 2025) EndedAt: 2025-02-03 22:37:07 -0500 (Mon, 03 Feb 2025) EllapsedTime: 123.5 seconds RetCode: 0 Status: OK PackageFile: Spectra_1.16.0.tar.gz PackageFileSize: 1.513 MiB