Package: Spectra Version: 1.16.0 Command: /home/biocbuild/bbs-3.20-bioc/R/bin/R CMD INSTALL Spectra StartedAt: 2025-02-03 15:27:28 -0500 (Mon, 03 Feb 2025) EndedAt: 2025-02-03 15:27:41 -0500 (Mon, 03 Feb 2025) EllapsedTime: 13.2 seconds RetCode: 0 Status: OK