Package: Spectra Version: 1.16.0 Command: /home/biocbuild/R/R/bin/R CMD build --keep-empty-dirs --no-resave-data Spectra StartedAt: 2025-02-04 03:14:11 -0000 (Tue, 04 Feb 2025) EndedAt: 2025-02-04 03:15:39 -0000 (Tue, 04 Feb 2025) EllapsedTime: 87.2 seconds RetCode: 0 Status: OK PackageFile: Spectra_1.16.0.tar.gz PackageFileSize: 1.643 MiB