Package: Spectra Version: 1.16.0 Command: /home/biocbuild/R/R/bin/R CMD check --install=check:Spectra.install-out.txt --library=/home/biocbuild/R/R/site-library --no-vignettes --timings Spectra_1.16.0.tar.gz StartedAt: 2025-02-04 11:19:29 -0000 (Tue, 04 Feb 2025) EndedAt: 2025-02-04 11:59:29 -0000 (Tue, 04 Feb 2025) EllapsedTime: 2400.3 seconds RetCode: None Status: TIMEOUT CheckDir: Spectra.Rcheck Warnings: NA