Package: SpectraQL Version: 1.0.0 Command: rm -rf SpectraQL.buildbin-libdir && mkdir SpectraQL.buildbin-libdir && /Users/biocbuild/BBS/utils/build-universal.sh SpectraQL_1.0.0.tar.gz /Library/Frameworks/R.framework/Resources/bin/R SpectraQL.buildbin-libdir StartedAt: 2025-01-31 13:46:44 -0500 (Fri, 31 Jan 2025) EndedAt: 2025-01-31 13:47:05 -0500 (Fri, 31 Jan 2025) EllapsedTime: 20.8 seconds RetCode: 0 Status: OK PackageFile: SpectraQL_1.0.0.tgz PackageFileSize: 424.3 KiB