Package: SpectraQL Version: 1.0.0 Command: /Library/Frameworks/R.framework/Resources/bin/R CMD build --keep-empty-dirs --no-resave-data SpectraQL StartedAt: 2025-02-03 22:35:12 -0500 (Mon, 03 Feb 2025) EndedAt: 2025-02-03 22:36:00 -0500 (Mon, 03 Feb 2025) EllapsedTime: 47.9 seconds RetCode: 0 Status: OK PackageFile: SpectraQL_1.0.0.tar.gz PackageFileSize: 402.7 KiB