Package: SpectraQL Version: 1.0.0 Command: /Library/Frameworks/R.framework/Resources/bin/R CMD check --install=check:SpectraQL.install-out.txt --library=/Library/Frameworks/R.framework/Resources/library --no-vignettes --timings SpectraQL_1.0.0.tar.gz StartedAt: 2025-02-04 10:36:54 -0500 (Tue, 04 Feb 2025) EndedAt: 2025-02-04 10:39:54 -0500 (Tue, 04 Feb 2025) EllapsedTime: 180.7 seconds RetCode: 0 Status: OK CheckDir: SpectraQL.Rcheck Warnings: 0