Package: SpectraQL Version: 1.0.0 Command: /home/biocbuild/bbs-3.20-bioc/R/bin/R CMD check --install=check:SpectraQL.install-out.txt --library=/home/biocbuild/bbs-3.20-bioc/R/site-library --timings SpectraQL_1.0.0.tar.gz StartedAt: 2025-02-04 02:47:12 -0500 (Tue, 04 Feb 2025) EndedAt: 2025-02-04 02:48:38 -0500 (Tue, 04 Feb 2025) EllapsedTime: 85.1 seconds RetCode: 0 Status: OK CheckDir: SpectraQL.Rcheck Warnings: 0