Package: SpectralTAD Version: 1.22.0 Command: /home/biocbuild/bbs-3.20-bioc/R/bin/R CMD check --install=check:SpectralTAD.install-out.txt --library=/home/biocbuild/bbs-3.20-bioc/R/site-library --timings SpectralTAD_1.22.0.tar.gz StartedAt: 2025-02-11 02:38:00 -0500 (Tue, 11 Feb 2025) EndedAt: 2025-02-11 02:41:18 -0500 (Tue, 11 Feb 2025) EllapsedTime: 197.2 seconds RetCode: 0 Status: OK CheckDir: SpectralTAD.Rcheck Warnings: 0