Package: SpectralTAD Version: 1.22.0 Command: /home/biocbuild/R/R/bin/R CMD check --install=check:SpectralTAD.install-out.txt --library=/home/biocbuild/R/R/site-library --no-vignettes --timings SpectralTAD_1.22.0.tar.gz StartedAt: 2025-02-04 11:19:36 -0000 (Tue, 04 Feb 2025) EndedAt: 2025-02-04 11:21:52 -0000 (Tue, 04 Feb 2025) EllapsedTime: 136.2 seconds RetCode: 0 Status: OK CheckDir: SpectralTAD.Rcheck Warnings: 0