Package: SpliceWiz Version: 1.8.0 Command: rm -rf SpliceWiz.buildbin-libdir && mkdir SpliceWiz.buildbin-libdir && /Users/biocbuild/BBS/utils/build-universal.sh SpliceWiz_1.8.0.tar.gz /Library/Frameworks/R.framework/Resources/bin/R SpliceWiz.buildbin-libdir StartedAt: 2025-02-05 17:57:45 -0500 (Wed, 05 Feb 2025) EndedAt: 2025-02-05 17:59:53 -0500 (Wed, 05 Feb 2025) EllapsedTime: 128.5 seconds RetCode: 0 Status: OK PackageFile: SpliceWiz_1.8.0.tgz PackageFileSize: 5.813 MiB