Package: SpliceWiz Version: 1.8.0 Command: /Library/Frameworks/R.framework/Resources/bin/R CMD build --keep-empty-dirs --no-resave-data SpliceWiz StartedAt: 2025-01-31 08:47:31 -0500 (Fri, 31 Jan 2025) EndedAt: 2025-01-31 08:54:45 -0500 (Fri, 31 Jan 2025) EllapsedTime: 434.4 seconds RetCode: 0 Status: OK PackageFile: SpliceWiz_1.8.0.tar.gz PackageFileSize: 4.655 MiB