Package: SpliceWiz Version: 1.8.0 Command: /Library/Frameworks/R.framework/Resources/bin/R CMD build --keep-empty-dirs --no-resave-data SpliceWiz StartedAt: 2025-01-30 23:08:50 -0500 (Thu, 30 Jan 2025) EndedAt: 2025-01-30 23:19:19 -0500 (Thu, 30 Jan 2025) EllapsedTime: 628.2 seconds RetCode: 0 Status: OK PackageFile: SpliceWiz_1.8.0.tar.gz PackageFileSize: 4.651 MiB