Package: SpliceWiz Version: 1.8.0 Command: /home/biocbuild/R/R/bin/R CMD check --install=check:SpliceWiz.install-out.txt --library=/home/biocbuild/R/R/site-library --no-vignettes --timings SpliceWiz_1.8.0.tar.gz StartedAt: 2025-02-11 10:42:41 -0000 (Tue, 11 Feb 2025) EndedAt: 2025-02-11 10:57:57 -0000 (Tue, 11 Feb 2025) EllapsedTime: 916.3 seconds RetCode: 0 Status: OK CheckDir: SpliceWiz.Rcheck Warnings: 0