Package: SpliceWiz Version: 1.8.0 Command: /home/biocbuild/R/R/bin/R CMD INSTALL SpliceWiz StartedAt: 2025-02-10 21:03:15 -0000 (Mon, 10 Feb 2025) EndedAt: 2025-02-10 21:05:44 -0000 (Mon, 10 Feb 2025) EllapsedTime: 148.6 seconds RetCode: 0 Status: OK