Package: SplicingFactory Version: 1.14.0 Command: rm -rf SplicingFactory.buildbin-libdir && mkdir SplicingFactory.buildbin-libdir && /Users/biocbuild/BBS/utils/build-universal.sh SplicingFactory_1.14.0.tar.gz /Library/Frameworks/R.framework/Resources/bin/R SplicingFactory.buildbin-libdir StartedAt: 2025-02-01 17:02:47 -0500 (Sat, 01 Feb 2025) EndedAt: 2025-02-01 17:03:14 -0500 (Sat, 01 Feb 2025) EllapsedTime: 26.1 seconds RetCode: 0 Status: OK PackageFile: SplicingFactory_1.14.0.tgz PackageFileSize: 827.8 KiB