Package: SplicingFactory Version: 1.14.0 Command: /home/biocbuild/bbs-3.20-bioc/R/bin/R CMD build --keep-empty-dirs --no-resave-data --md5 SplicingFactory StartedAt: 2025-02-03 19:28:21 -0500 (Mon, 03 Feb 2025) EndedAt: 2025-02-03 19:28:53 -0500 (Mon, 03 Feb 2025) EllapsedTime: 32.0 seconds RetCode: 0 Status: OK PackageFile: SplicingFactory_1.14.0.tar.gz PackageFileSize: 756 KiB