Package: SplicingFactory Version: 1.14.0 Command: F:\biocbuild\bbs-3.20-bioc\R\bin\R.exe CMD INSTALL SplicingFactory StartedAt: 2025-01-30 16:20:53 -0500 (Thu, 30 Jan 2025) EndedAt: 2025-01-30 16:21:20 -0500 (Thu, 30 Jan 2025) EllapsedTime: 27.1 seconds RetCode: 0 Status: OK