Package: SplicingFactory Version: 1.14.0 Command: /home/biocbuild/R/R/bin/R CMD build --keep-empty-dirs --no-resave-data SplicingFactory StartedAt: 2025-01-31 02:56:11 -0000 (Fri, 31 Jan 2025) EndedAt: 2025-01-31 02:56:53 -0000 (Fri, 31 Jan 2025) EllapsedTime: 42.0 seconds RetCode: 0 Status: OK PackageFile: SplicingFactory_1.14.0.tar.gz PackageFileSize: 527.5 KiB