Package: SplicingFactory Version: 1.14.0 Command: /home/biocbuild/R/R/bin/R CMD INSTALL SplicingFactory StartedAt: 2025-01-30 20:19:12 -0000 (Thu, 30 Jan 2025) EndedAt: 2025-01-30 20:19:37 -0000 (Thu, 30 Jan 2025) EllapsedTime: 24.2 seconds RetCode: 0 Status: OK